BEGIN:VCALENDAR
VERSION:2.0
PRODID:-//Nu Rho Psi - ECPv6.15.20//NONSGML v1.0//EN
CALSCALE:GREGORIAN
METHOD:PUBLISH
X-WR-CALNAME:Nu Rho Psi
X-ORIGINAL-URL:https://nurhopsi.org
X-WR-CALDESC:Events for Nu Rho Psi
REFRESH-INTERVAL;VALUE=DURATION:PT1H
X-Robots-Tag:noindex
X-PUBLISHED-TTL:PT1H
BEGIN:VTIMEZONE
TZID:America/New_York
BEGIN:DAYLIGHT
TZOFFSETFROM:-0500
TZOFFSETTO:-0400
TZNAME:EDT
DTSTART:20230312T070000
END:DAYLIGHT
BEGIN:STANDARD
TZOFFSETFROM:-0400
TZOFFSETTO:-0500
TZNAME:EST
DTSTART:20231105T060000
END:STANDARD
BEGIN:DAYLIGHT
TZOFFSETFROM:-0500
TZOFFSETTO:-0400
TZNAME:EDT
DTSTART:20240310T070000
END:DAYLIGHT
BEGIN:STANDARD
TZOFFSETFROM:-0400
TZOFFSETTO:-0500
TZNAME:EST
DTSTART:20241103T060000
END:STANDARD
BEGIN:DAYLIGHT
TZOFFSETFROM:-0500
TZOFFSETTO:-0400
TZNAME:EDT
DTSTART:20250309T070000
END:DAYLIGHT
BEGIN:STANDARD
TZOFFSETFROM:-0400
TZOFFSETTO:-0500
TZNAME:EST
DTSTART:20251102T060000
END:STANDARD
END:VTIMEZONE
BEGIN:VEVENT
DTSTART;VALUE=DATE:20240405
DTEND;VALUE=DATE:20240406
DTSTAMP:20260421T075505
CREATED:20240206T191928Z
LAST-MODIFIED:20240310T202642Z
UID:32873-1712275200-1712361599@nurhopsi.org
SUMMARY:Undergraduate Research Grants Due (Summer 2024\, Academic Year 2024-2025)
DESCRIPTION:The Nu Rho Psi Undergraduate Research Grants support high quality research projects conducted by undergraduate student members of Nu Rho Psi by defraying direct research costs and/or by providing direct student financial support. There is a single application deadline regardless of whether the research project will be completed during Summer 2024 or during the 2024-25 Academic Year. \nThe application can be found here: Undergraduate Research Grant Application \nMore information\, including a proposal guide and the application rubric\, can be found at: nurhopsi.org/awards-and-grants
URL:https://nurhopsi.org/event/undergraduate-research-grants-due-summer-2024-academic-year-2024-2025/
CATEGORIES:Award/Grant,Award/Grant Due Date
END:VEVENT
BEGIN:VEVENT
DTSTART;TZID=America/New_York:20240311T200000
DTEND;TZID=America/New_York:20240311T210000
DTSTAMP:20260421T075505
CREATED:20240310T203236Z
LAST-MODIFIED:20240310T203236Z
UID:33073-1710187200-1710190800@nurhopsi.org
SUMMARY:Shen Neurolaw Lab Open House
DESCRIPTION:Kick off Brain Awareness Week 2024 with the Dana Foundation by stopping by their Shen Neurolaw Lab Open House. This 1-hour virtual event will allow you an opportunity to learn more about what we do all day at the intersection of neuroscience\, law\, ethics\, and artificial intelligence. The event will be a free-flowing discussion powered by your questions about the field\, about opportunities in the Lab\, and about anything else. \nMore information can be found here: https://neuroxcareers.org/events/#openhouse
URL:https://nurhopsi.org/event/shen-neurolaw-lab-open-house/
CATEGORIES:External Events
ORGANIZER;CN="Dana Foundation":MAILTO:danainfo@dana.org
END:VEVENT
END:VCALENDAR